Workbook
Name LANGUE_FR_ENG: 'Page Titre'!$C$1

Sheet Page Titre
B1: Language | C1: Fr
A35: =IF(EXACT('Page Titre'!LANGUE_FR_ENG,"Fr"),MatchTrad!A2,MatchTrad!B2) -> Divulgation
A39: =IF(EXACT('Page Titre'!LANGUE_FR_ENG,"Fr"),MatchTrad!A3,MatchTrad!B3) -> Ratio structurel de liquidité à long terme (NSFR)
B43: 1er Janvier 2027 (January 1, 2027)

Sheet Attestation
G5: =IF(EXACT('Page Titre'!LANGUE_FR_ENG,"Fr"),MatchTrad!A645,MatchTrad!B645) -> Confidentiel
A6: =IF(EXACT('Page Titre'!LANGUE_FR_ENG,"Fr"),MatchTrad!A646,MatchTrad!B646) -> Ligne directrice sur les normes relatives à la suffisance des liquidités (LDSL)
A8: =IF(EXACT('Page Titre'!LANGUE_FR_ENG,"Fr"),MatchTrad!A647,MatchTrad!B647) -> Ratio stucturel de liquidité à long terme (NSFR)
A9: =IF(EXACT('Page Titre'!LANGUE_FR_ENG,"Fr"),MatchTrad!A648,MatchTrad!B648) -> Attestation d'assurance
A11: =IF(EXACT('Page Titre'!LANGUE_FR_ENG,"Fr"),MatchTrad!A649,MatchTrad!B649) -> Identification
A12: =IF(EXACT('Page Titre'!LANGUE_FR_ENG,"Fr"),MatchTrad!A650,MatchTrad!B650) -> Nom de l'institution financière :
A14: =IF(EXACT('Page Titre'!LANGUE_FR_ENG,"Fr"),MatchTrad!A651,MatchTrad!B651) -> Date de fin de période :
A16: =IF(EXACT('Page Titre'!LANGUE_FR_ENG,"Fr"),MatchTrad!A652,MatchTrad!B652) -> Personne ressource :
A17: =IF(EXACT('Page Titre'!LANGUE_FR_ENG,"Fr"),MatchTrad!A653,MatchTrad!B653) -> Nom :
A19: =IF(EXACT('Page Titre'!LANGUE_FR_ENG,"Fr"),MatchTrad!A654,MatchTrad!B654) -> Fonction :
A21: =IF(EXACT('Page Titre'!LANGUE_FR_ENG,"Fr"),MatchTrad!A655,MatchTrad!B655) -> Téléphone : | F21: =IF(EXACT('Page Titre'!LANGUE_FR_ENG,"Fr"),MatchTrad!A656,MatchTrad!B656) -> Poste :
A23: =IF(EXACT('Page Titre'!LANGUE_FR_ENG,"Fr"),MatchTrad!A657,MatchTrad!B657) -> Courriel :
A25: =IF(EXACT('Page Titre'!LANGUE_FR_ENG,"Fr"),MatchTrad!A658,MatchTrad!B658) -> Attestation du représentant désigné
A27: =IF(EXACT('Page Titre'!LANGUE_FR_ENG,"Fr"),MatchTrad!A659,MatchTrad!B659) -> Je confirme avoir lu et compris les chapitres 1 et 6 de la Ligne directrice sur les normes relatives à la suffisance des liquidités ainsi que toute instruction pertinente émise par l'Autorité des marchés financiers (l'« Autorité »), que le formulaire est rempli conformément à ces documents et qu'il est exact et complet.
A30: =IF(EXACT('Page Titre'!LANGUE_FR_ENG,"Fr"),MatchTrad!A660,MatchTrad!B660) -> Nom | F30: =IF(EXACT('Page Titre'!LANGUE_FR_ENG,"Fr"),MatchTrad!A661,MatchTrad!B661) -> Signature
A32: =IF(EXACT('Page Titre'!LANGUE_FR_ENG,"Fr"),MatchTrad!A662,MatchTrad!B662) -> Opinion de l'auditeur interne (à signer au moins une fois tous les trois ans)
A34: =IF(EXACT('Page Titre'!LANGUE_FR_ENG,"Fr"),MatchTrad!A663,MatchTrad!B663) -> J'ai examiné l'efficacité des processus et des contrôles internes en place à l'égard du formulaire NSFR, y compris les systèmes qui s’y rattachent, ainsi que le suivi de la conformité aux modèles applicables à l’institution financière. À mon avis, les processus et les contrôles internes à la date ci-dessous, fonctionnent comme prévu et permettent de garantir l'exhaustivité et l'exactitude du formulaire.
A36: =IF(EXACT('Page Titre'!LANGUE_FR_ENG,"Fr"),MatchTrad!A664,MatchTrad!B664) -> Date de l'audit interne :
A38: =IF(EXACT('Page Titre'!LANGUE_FR_ENG,"Fr"),MatchTrad!A665,MatchTrad!B665) -> Auditeur interne
A41: =IF(EXACT('Page Titre'!LANGUE_FR_ENG,"Fr"),MatchTrad!A666,MatchTrad!B666) -> Nom | F41: =IF(EXACT('Page Titre'!LANGUE_FR_ENG,"Fr"),MatchTrad!A667,MatchTrad!B667) -> Signature
A44: =IF(EXACT('Page Titre'!LANGUE_FR_ENG,"Fr"),MatchTrad!A668,MatchTrad!B668) -> Le représentant désigné de la haute direction de l'institution financière ne doit pas participer directement à la préparation du formulaire NSFR.

Sheet NSFR
A2: =IF(EXACT('Page Titre'!LANGUE_FR_ENG,"Fr"),MatchTrad!A4,MatchTrad!B4) -> Exigences NSFR
A3: =IF(EXACT('Page Titre'!LANGUE_FR_ENG,"Fr"),MatchTrad!A5,MatchTrad!B5) -> (Miliers de dollars canadiens)
B4: =IF(EXACT('Page Titre'!LANGUE_FR_ENG,"Fr"),MatchTrad!A6,MatchTrad!B6) -> Date de divulgation (aaaa-mm-jj) | M4: =IF(EXACT('Page Titre'!LANGUE_FR_ENG,"Fr"),MatchTrad!A7,MatchTrad!B7) -> Légende
M5: =IF(EXACT('Page Titre'!LANGUE_FR_ENG,"Fr"),MatchTrad!A8,MatchTrad!B8) -> Vide | N5: =IF(EXACT('Page Titre'!LANGUE_FR_ENG,"Fr"),MatchTrad!A9,MatchTrad!B9) -> Formule | O5: =IF(EXACT('Page Titre'!LANGUE_FR_ENG,"Fr"),MatchTrad!A10,MatchTrad!B10) -> Saisie | P5: =IF(EXACT('Page Titre'!LANGUE_FR_ENG,"Fr"),MatchTrad!A11,MatchTrad!B11) -> Résultat calculé
A7: =IF(EXACT('Page Titre'!LANGUE_FR_ENG,"Fr"),MatchTrad!A12,MatchTrad!B12) -> Section 1 - Financement stable disponible (ASF) | D7: =IF(EXACT('Page Titre'!LANGUE_FR_ENG,"Fr"),MatchTrad!A14,MatchTrad!B14) -> Montant | H7: =IF(EXACT('Page Titre'!LANGUE_FR_ENG,"Fr"),MatchTrad!A15,MatchTrad!B15) -> Coefficient ASF | L7: =IF(EXACT('Page Titre'!LANGUE_FR_ENG,"Fr"),MatchTrad!A16,MatchTrad!B16) -> ASF calculé
A8: =IF(EXACT('Page Titre'!LANGUE_FR_ENG,"Fr"),MatchTrad!A13,MatchTrad!B13) -> 1.1 Financement stable disponible (ASF) | D8: =IF(EXACT('Page Titre'!LANGUE_FR_ENG,"Fr"),MatchTrad!A17,MatchTrad!B17) -> Sans terme | E8: =IF(EXACT('Page Titre'!LANGUE_FR_ENG,"Fr"),MatchTrad!A18,MatchTrad!B18) -> < 6 mois | F8: =IF(EXACT('Page Titre'!LANGUE_FR_ENG,"Fr"),MatchTrad!A19,MatchTrad!B19) -> >= 6 mois et < 1 an | G8: =IF(EXACT('Page Titre'!LANGUE_FR_ENG,"Fr"),MatchTrad!A20,MatchTrad!B20) -> >= 1 an | H8: =IF(EXACT('Page Titre'!LANGUE_FR_ENG,"Fr"),MatchTrad!A21,MatchTrad!B21) -> Sans terme | I8: =IF(EXACT('Page Titre'!LANGUE_FR_ENG,"Fr"),MatchTrad!A22,MatchTrad!B22) -> < 6 mois | J8: =IF(EXACT('Page Titre'!LANGUE_FR_ENG,"Fr"),MatchTrad!A23,MatchTrad!B23) -> >= 6 mois et < 1 an | K8: =IF(EXACT('Page Titre'!LANGUE_FR_ENG,"Fr"),MatchTrad!A24,MatchTrad!B24) -> >= 1 an | L8: =IF(EXACT('Page Titre'!LANGUE_FR_ENG,"Fr"),MatchTrad!A25,MatchTrad!B25) -> Sans terme | M8: =IF(EXACT('Page Titre'!LANGUE_FR_ENG,"Fr"),MatchTrad!A26,MatchTrad!B26) -> < 6 mois | N8: =IF(EXACT('Page Titre'!LANGUE_FR_ENG,"Fr"),MatchTrad!A27,MatchTrad!B27) -> ≥ 6 mois et < 1 an | O8: =IF(EXACT('Page Titre'!LANGUE_FR_ENG,"Fr"),MatchTrad!A28,MatchTrad!B28) -> >= 1 an | P8: =IF(EXACT('Page Titre'!LANGUE_FR_ENG,"Fr"),MatchTrad!A29,MatchTrad!B29) -> Total ASF
D9: (01) | E9: (02) | F9: (03) | G9: (04) | H9: (05) | I9: (06) | J9: (07) | K9: (08) | L9: (09) | M9: (10) | N9: (11) | O9: (12) | P9: (13)
B10: =IF(EXACT('Page Titre'!LANGUE_FR_ENG,"Fr"),MatchTrad!A30,MatchTrad!B30) -> Fonds propres de catégorie 1 et de catégorie 2 (Bâle III 2022), avant l'application de déductions de fonds propres, à l'exception du pourcentage d'instruments de catégorie 2 à échéance résiduelle de moins d'un an | C10: 1010 | H10: 1 | K10: 1 | L10: =IF(AND(ISNUMBER(D10),ISNUMBER(H10)),D10*H10,"") | O10: =IF(AND(ISNUMBER(G10),ISNUMBER(K10)),G10*K10,"") | P10: =IF(AND(ISNUMBER(L10),ISNUMBER(O10)),L10+O10,"")
B11: =IF(EXACT('Page Titre'!LANGUE_FR_ENG,"Fr"),MatchTrad!A31,MatchTrad!B31) -> Instruments de fonds propres non pris en compte ci-dessus, à échéance résiduelle réelle d'au moins un an | C11: =C10+10 -> 1020 | H11: 1 | K11: 1 | L11: =IF(AND(ISNUMBER(D11),ISNUMBER(H11)),D11*H11,"") | O11: =IF(AND(ISNUMBER(G11),ISNUMBER(K11)),G11*K11,"") | P11: =O11
B12: =IF(EXACT('Page Titre'!LANGUE_FR_ENG,"Fr"),MatchTrad!A32,MatchTrad!B32) -> Dépôts à vue et/ou à terme « stables » (définis dans le LCR) des particuliers et des petites entreprises | C12: =C11+10 -> 1030 | H12: 0.95 | I12: 0.95 | J12: 0.95 | K12: 1 | L12: =IF(AND(ISNUMBER(D12),ISNUMBER(H12)),D12*H12,"") | M12: =IF(AND(ISNUMBER(E12),ISNUMBER(I12)),E12*I12,"") | N12: =IF(AND(ISNUMBER(F12),ISNUMBER(J12)),F12*J12,"") | O12: =IF(AND(ISNUMBER(G12),ISNUMBER(K12)),G12*K12,"") | P12: =IF(AND(ISNUMBER(L12),ISNUMBER(M12),ISNUMBER(N12),ISNUMBER(O12)),SUM(L12:O12),"")
B13: =IF(EXACT('Page Titre'!LANGUE_FR_ENG,"Fr"),MatchTrad!A33,MatchTrad!B33) -> Dépôts à vue et/ou à terme « moins stables » (définis dans le LCR) des particuliers et des petites entreprises, dont : | C13: =C12+10 -> 1040 | D13: =SUM(D14:D19,D21:D22) -> 0 | E13: =SUM(E14:E17,E20,E22) -> 0 | F13: =SUM(F14:F17,F22) -> 0 | G13: =SUM(G14:G17,G22) -> 0
B14: =IF(EXACT('Page Titre'!LANGUE_FR_ENG,"Fr"),MatchTrad!A34,MatchTrad!B34) -> Assurés – sans relation durable et compte qui n’est pas un compte transactionnel | C14: =C13+10 -> 1050 | H14: 0.9 | I14: 0.9 | J14: 0.9 | K14: 1 | L14: =IF(AND(ISNUMBER(D14),ISNUMBER(H14)),D14*H14,"") | M14: =IF(AND(ISNUMBER(E14),ISNUMBER(I14)),E14*I14,"") | N14: =IF(AND(ISNUMBER(F14),ISNUMBER(J14)),F14*J14,"") | O14: =IF(AND(ISNUMBER(G14),ISNUMBER(K14)),G14*K14,"") | P14: =IF(AND(ISNUMBER(L14),ISNUMBER(M14),ISNUMBER(N14),ISNUMBER(O14)),SUM(L14:O14),"")
B15: =IF(EXACT('Page Titre'!LANGUE_FR_ENG,"Fr"),MatchTrad!A35,MatchTrad!B35) -> Assurés – dépôts provenant de fonds et de fiducies contrôlés par le client de détail | C15: =C14+10 -> 1060 | H15: 0.9 | I15: 0.9 | J15: 0.9 | K15: 1 | L15: =IF(AND(ISNUMBER(D15),ISNUMBER(H15)),D15*H15,"") | M15: =IF(AND(ISNUMBER(E15),ISNUMBER(I15)),E15*I15,"") | N15: =IF(AND(ISNUMBER(F15),ISNUMBER(J15)),F15*J15,"") | O15: =IF(AND(ISNUMBER(G15),ISNUMBER(K15)),G15*K15,"") | P15: =IF(AND(ISNUMBER(L15),ISNUMBER(M15),ISNUMBER(N15),ISNUMBER(O15)),SUM(L15:O15),"")
B16: =IF(EXACT('Page Titre'!LANGUE_FR_ENG,"Fr"),MatchTrad!A36,MatchTrad!B36) -> Dépôts provenant du pays d’attache mais libellés en devises | C16: =C15+10 -> 1070 | H16: 0.9 | I16: 0.9 | J16: 0.9 | K16: 1 | L16: =IF(AND(ISNUMBER(D16),ISNUMBER(H16)),D16*H16,"") | M16: =IF(AND(ISNUMBER(E16),ISNUMBER(I16)),E16*I16,"") | N16: =IF(AND(ISNUMBER(F16),ISNUMBER(J16)),F16*J16,"") | O16: =IF(AND(ISNUMBER(G16),ISNUMBER(K16)),G16*K16,"") | P16: =IF(AND(ISNUMBER(L16),ISNUMBER(M16),ISNUMBER(N16),ISNUMBER(O16)),SUM(L16:O16),"")
B17: =IF(EXACT('Page Titre'!LANGUE_FR_ENG,"Fr"),MatchTrad!A37,MatchTrad!B37) -> Dépôts non assurés | C17: =C16+10 -> 1080 | H17: 0.9 | I17: 0.9 | J17: 0.9 | K17: 1 | L17: =IF(AND(ISNUMBER(D17),ISNUMBER(H17)),D17*H17,"") | M17: =IF(AND(ISNUMBER(E17),ISNUMBER(I17)),E17*I17,"") | N17: =IF(AND(ISNUMBER(F17),ISNUMBER(J17)),F17*J17,"") | O17: =IF(AND(ISNUMBER(G17),ISNUMBER(K17)),G17*K17,"") | P17: =IF(AND(ISNUMBER(L17),ISNUMBER(M17),ISNUMBER(N17),ISNUMBER(O17)),SUM(L17:O17),"")
B18: =IF(EXACT('Page Titre'!LANGUE_FR_ENG,"Fr"),MatchTrad!A38,MatchTrad!B38) -> Dépôts sensibles aux taux d'intérêt directement gérés par le client – relation durable ou dépôt dans un compte transactionnel | C18: =C17+10 -> 1090 | H18: 0.9 | L18: =IF(AND(ISNUMBER(D18),ISNUMBER(H18)),D18*H18,"") | P18: =IF(ISNUMBER(L18),L18,"")
B19: =IF(EXACT('Page Titre'!LANGUE_FR_ENG,"Fr"),MatchTrad!A39,MatchTrad!B39) -> Dépôts sensibles aux taux d'intérêt directement gérés par le client – sans relation durable et dépôt dans un compte autre que transactionnel | C19: =C18+10 -> 1100 | H19: 0.8 | L19: =IF(AND(ISNUMBER(D19),ISNUMBER(H19)),D19*H19,"") | P19: =IF(ISNUMBER(L19),L19,"")
B20: =IF(EXACT('Page Titre'!LANGUE_FR_ENG,"Fr"),MatchTrad!A40,MatchTrad!B40) -> Dépôts à terme gérés par un tiers non affilié venant à échéance ou encaissables dans les 30 prochains jours | C20: =C19+10 -> 1110 | I20: 0.7 | M20: =IF(AND(ISNUMBER(E20),ISNUMBER(I20)),E20*I20,"") | P20: =IF(ISNUMBER(M20),M20,"")
B21: =IF(EXACT('Page Titre'!LANGUE_FR_ENG,"Fr"),MatchTrad!A41,MatchTrad!B41) -> Dépôts à vue gérés par un tiers non affilié | C21: =C20+10 -> 1120 | H21: 0.6 | L21: =IF(AND(ISNUMBER(D21),ISNUMBER(H21)),D21*H21,"") | P21: =IF(ISNUMBER(L21),L21,"")
B22: =IF(EXACT('Page Titre'!LANGUE_FR_ENG,"Fr"),MatchTrad!A42,MatchTrad!B42) -> Dépôts soumis aux exigences de l'administration d'accueil | C22: =C21+10 -> 1130 | P22: =IF(AND(ISNUMBER(L22),ISNUMBER(M22),ISNUMBER(N22),ISNUMBER(O22)),SUM(L22:O22),"")
B23: =IF(EXACT('Page Titre'!LANGUE_FR_ENG,"Fr"),MatchTrad!A43,MatchTrad!B43) -> Financement non garanti provenant d’entreprises non financières | C23: =C22+10 -> 1140
B24: =IF(EXACT('Page Titre'!LANGUE_FR_ENG,"Fr"),MatchTrad!A44,MatchTrad!B44) -> Dépôt opérationnel (défini dans le périmètre du LCR) | C24: =C23+10 -> 1150 | H24: 0.5 | I24: 0.5 | J24: 0.5 | K24: 1 | L24: =IF(AND(ISNUMBER(D24),ISNUMBER(H24)),D24*H24,"") | M24: =IF(AND(ISNUMBER(E24),ISNUMBER(I24)),E24*I24,"") | N24: =IF(AND(ISNUMBER(F24),ISNUMBER(J24)),F24*J24,"") | O24: =IF(AND(ISNUMBER(G24),ISNUMBER(K24)),G24*K24,"") | P24: =IF(AND(ISNUMBER(L24),ISNUMBER(M24),ISNUMBER(N24),ISNUMBER(O24)),SUM(L24:O24),"")
B25: =IF(EXACT('Page Titre'!LANGUE_FR_ENG,"Fr"),MatchTrad!A45,MatchTrad!B45) -> Dépôt non opérationnel (défini dans le périmètre du LCR) | C25: =C24+10 -> 1160 | H25: 0.5 | I25: 0.5 | J25: 0.5 | K25: 1 | L25: =IF(AND(ISNUMBER(D25),ISNUMBER(H25)),D25*H25,"") | M25: =IF(AND(ISNUMBER(E25),ISNUMBER(I25)),E25*I25,"") | N25: =IF(AND(ISNUMBER(F25),ISNUMBER(J25)),F25*J25,"") | O25: =IF(AND(ISNUMBER(G25),ISNUMBER(K25)),G25*K25,"") | P25: =IF(AND(ISNUMBER(L25),ISNUMBER(M25),ISNUMBER(N25),ISNUMBER(O25)),SUM(L25:O25),"")
B26: =IF(EXACT('Page Titre'!LANGUE_FR_ENG,"Fr"),MatchTrad!A46,MatchTrad!B46) -> Fonds non garantis autres que des dépôts | C26: =C25+10 -> 1170 | H26: 0.5 | I26: 0.5 | J26: 0.5 | K26: 1 | L26: =IF(AND(ISNUMBER(D26),ISNUMBER(H26)),D26*H26,"") | M26: =IF(AND(ISNUMBER(E26),ISNUMBER(I26)),E26*I26,"") | N26: =IF(AND(ISNUMBER(F26),ISNUMBER(J26)),F26*J26,"") | O26: =IF(AND(ISNUMBER(G26),ISNUMBER(K26)),G26*K26,"") | P26: =IF(AND(ISNUMBER(L26),ISNUMBER(M26),ISNUMBER(N26),ISNUMBER(O26)),SUM(L26:O26),"")
B27: =IF(EXACT('Page Titre'!LANGUE_FR_ENG,"Fr"),MatchTrad!A47,MatchTrad!B47) -> Financement non garanti provenant de banques centrales | C27: =C26+10 -> 1180
B28: =IF(EXACT('Page Titre'!LANGUE_FR_ENG,"Fr"),MatchTrad!A48,MatchTrad!B48) -> Dépôt opérationnel (défini dans le périmètre du LCR) | C28: =C27+10 -> 1190 | H28: 0.5 | I28: 0.5 | J28: 0.5 | K28: 1 | L28: =IF(AND(ISNUMBER(D28),ISNUMBER(H28)),D28*H28,"") | M28: =IF(AND(ISNUMBER(E28),ISNUMBER(I28)),E28*I28,"") | N28: =IF(AND(ISNUMBER(F28),ISNUMBER(J28)),F28*J28,"") | O28: =IF(AND(ISNUMBER(G28),ISNUMBER(K28)),G28*K28,"") | P28: =IF(AND(ISNUMBER(L28),ISNUMBER(M28),ISNUMBER(N28),ISNUMBER(O28)),SUM(L28:O28),"")
B29: =IF(EXACT('Page Titre'!LANGUE_FR_ENG,"Fr"),MatchTrad!A49,MatchTrad!B49) -> Dépôt non opérationnel (défini dans le périmètre du LCR) | C29: =C28+10 -> 1200 | H29: 0 | I29: 0 | J29: 0.5 | K29: 1 | L29: =IF(AND(ISNUMBER(D29),ISNUMBER(H29)),D29*H29,"") | M29: =IF(AND(ISNUMBER(E29),ISNUMBER(I29)),E29*I29,"") | N29: =IF(AND(ISNUMBER(F29),ISNUMBER(J29)),F29*J29,"") | O29: =IF(AND(ISNUMBER(G29),ISNUMBER(K29)),G29*K29,"") | P29: =IF(AND(ISNUMBER(L29),ISNUMBER(M29),ISNUMBER(N29),ISNUMBER(O29)),SUM(L29:O29),"")
B30: =IF(EXACT('Page Titre'!LANGUE_FR_ENG,"Fr"),MatchTrad!A50,MatchTrad!B50) -> Fonds non garantis autres que des dépôts | C30: =C29+10 -> 1210 | H30: 0 | I30: 0 | J30: 0.5 | K30: 1 | L30: =IF(AND(ISNUMBER(D30),ISNUMBER(H30)),D30*H30,"") | M30: =IF(AND(ISNUMBER(E30),ISNUMBER(I30)),E30*I30,"") | N30: =IF(AND(ISNUMBER(F30),ISNUMBER(J30)),F30*J30,"") | O30: =IF(AND(ISNUMBER(G30),ISNUMBER(K30)),G30*K30,"") | P30: =IF(AND(ISNUMBER(L30),ISNUMBER(M30),ISNUMBER(N30),ISNUMBER(O30)),SUM(L30:O30),"")
B31: =IF(EXACT('Page Titre'!LANGUE_FR_ENG,"Fr"),MatchTrad!A51,MatchTrad!B51) -> Financement non garanti provenant d'États souverains/OP/BMD/BND | C31: =C30+10 -> 1220
B32: =IF(EXACT('Page Titre'!LANGUE_FR_ENG,"Fr"),MatchTrad!A52,MatchTrad!B52) -> Dépôt opérationnel (défini dans le périmètre du LCR) | C32: =C31+10 -> 1230 | H32: 0.5 | I32: 0.5 | J32: 0.5 | K32: 1 | L32: =IF(AND(ISNUMBER(D32),ISNUMBER(H32)),D32*H32,"") | M32: =IF(AND(ISNUMBER(E32),ISNUMBER(I32)),E32*I32,"") | N32: =IF(AND(ISNUMBER(F32),ISNUMBER(J32)),F32*J32,"") | O32: =IF(AND(ISNUMBER(G32),ISNUMBER(K32)),G32*K32,"") | P32: =IF(AND(ISNUMBER(L32),ISNUMBER(M32),ISNUMBER(N32),ISNUMBER(O32)),SUM(L32:O32),"")
B33: =IF(EXACT('Page Titre'!LANGUE_FR_ENG,"Fr"),MatchTrad!A53,MatchTrad!B53) -> Dépôt non opérationnel (défini dans le périmètre du LCR) | C33: =C32+10 -> 1240 | H33: 0.5 | I33: 0.5 | J33: 0.5 | K33: 1 | L33: =IF(AND(ISNUMBER(D33),ISNUMBER(H33)),D33*H33,"") | M33: =IF(AND(ISNUMBER(E33),ISNUMBER(I33)),E33*I33,"") | N33: =IF(AND(ISNUMBER(F33),ISNUMBER(J33)),F33*J33,"") | O33: =IF(AND(ISNUMBER(G33),ISNUMBER(K33)),G33*K33,"") | P33: =IF(AND(ISNUMBER(L33),ISNUMBER(M33),ISNUMBER(N33),ISNUMBER(O33)),SUM(L33:O33),"")
B34: =IF(EXACT('Page Titre'!LANGUE_FR_ENG,"Fr"),MatchTrad!A54,MatchTrad!B54) -> Fonds non garantis autres que des dépôts | C34: =C33+10 -> 1250 | H34: 0.5 | I34: 0.5 | J34: 0.5 | K34: 1 | L34: =IF(AND(ISNUMBER(D34),ISNUMBER(H34)),D34*H34,"") | M34: =IF(AND(ISNUMBER(E34),ISNUMBER(I34)),E34*I34,"") | N34: =IF(AND(ISNUMBER(F34),ISNUMBER(J34)),F34*J34,"") | O34: =IF(AND(ISNUMBER(G34),ISNUMBER(K34)),G34*K34,"") | P34: =IF(AND(ISNUMBER(L34),ISNUMBER(M34),ISNUMBER(N34),ISNUMBER(O34)),SUM(L34:O34),"")
B35: =IF(EXACT('Page Titre'!LANGUE_FR_ENG,"Fr"),MatchTrad!A55,MatchTrad!B55) -> Financement non garanti provenant d'autres entités juridiques (y compris des sociétés financières et des institutions financières) | C35: =C34+10 -> 1260
B36: =IF(EXACT('Page Titre'!LANGUE_FR_ENG,"Fr"),MatchTrad!A56,MatchTrad!B56) -> Dépôt opérationnel (défini dans le périmètre du LCR) | C36: =C35+10 -> 1270 | H36: 0.5 | I36: 0.5 | J36: 0.5 | K36: 1 | L36: =IF(AND(ISNUMBER(D36),ISNUMBER(H36)),D36*H36,"") | M36: =IF(AND(ISNUMBER(E36),ISNUMBER(I36)),E36*I36,"") | N36: =IF(AND(ISNUMBER(F36),ISNUMBER(J36)),F36*J36,"") | O36: =IF(AND(ISNUMBER(G36),ISNUMBER(K36)),G36*K36,"") | P36: =IF(AND(ISNUMBER(L36),ISNUMBER(M36),ISNUMBER(N36),ISNUMBER(O36)),SUM(L36:O36),"")
B37: =IF(EXACT('Page Titre'!LANGUE_FR_ENG,"Fr"),MatchTrad!A57,MatchTrad!B57) -> Dépôt non opérationnel (défini dans le périmètre du LCR) | C37: =C36+10 -> 1280 | H37: 0 | I37: 0 | J37: 0.5 | K37: 1 | L37: =IF(AND(ISNUMBER(D37),ISNUMBER(H37)),D37*H37,"") | M37: =IF(AND(ISNUMBER(E37),ISNUMBER(I37)),E37*I37,"") | N37: =IF(AND(ISNUMBER(F37),ISNUMBER(J37)),F37*J37,"") | O37: =IF(AND(ISNUMBER(G37),ISNUMBER(K37)),G37*K37,"") | P37: =IF(AND(ISNUMBER(L37),ISNUMBER(M37),ISNUMBER(N37),ISNUMBER(O37)),SUM(L37:O37),"")
B38: =IF(EXACT('Page Titre'!LANGUE_FR_ENG,"Fr"),MatchTrad!A58,MatchTrad!B58) -> Fonds non garantis autres que des dépôts | C38: =C37+10 -> 1290 | H38: 0 | I38: 0 | J38: 0.5 | K38: 1 | L38: =IF(AND(ISNUMBER(D38),ISNUMBER(H38)),D38*H38,"") | M38: =IF(AND(ISNUMBER(E38),ISNUMBER(I38)),E38*I38,"") | N38: =IF(AND(ISNUMBER(F38),ISNUMBER(J38)),F38*J38,"") | O38: =IF(AND(ISNUMBER(G38),ISNUMBER(K38)),G38*K38,"") | P38: =IF(AND(ISNUMBER(L38),ISNUMBER(M38),ISNUMBER(N38),ISNUMBER(O38)),SUM(L38:O38),"")
B39: =IF(EXACT('Page Titre'!LANGUE_FR_ENG,"Fr"),MatchTrad!A59,MatchTrad!B59) -> Dépôts provenant de membres d'une même coopérative à l'intérieur d'une fédération sousmise à la discrétion nationale énoncée au paragraphe 25 (a). | C39: =C38+10 -> 1300 | H39: 0 | I39: 0 | J39: 0.5 | K39: 1 | L39: =IF(AND(ISNUMBER(D39),ISNUMBER(H39)),D39*H39,"") | M39: =IF(AND(ISNUMBER(E39),ISNUMBER(I39)),E39*I39,"") | N39: =IF(AND(ISNUMBER(F39),ISNUMBER(J39)),F39*J39,"") | O39: =IF(AND(ISNUMBER(G39),ISNUMBER(K39)),G39*K39,"") | P39: =IF(AND(ISNUMBER(L39),ISNUMBER(M39),ISNUMBER(N39),ISNUMBER(O39)),SUM(L39:O39),"")
B40: =IF(EXACT('Page Titre'!LANGUE_FR_ENG,"Fr"),MatchTrad!A60,MatchTrad!B60) -> Autres dépôts provenant de membres d'une coopérative à l'intérieur d'une fédération | C40: =C39+10 -> 1310 | H40: 0 | I40: 0 | J40: 0.5 | K40: 1 | L40: =IF(AND(ISNUMBER(D40),ISNUMBER(H40)),D40*H40,"") | M40: =IF(AND(ISNUMBER(E40),ISNUMBER(I40)),E40*I40,"") | N40: =IF(AND(ISNUMBER(F40),ISNUMBER(J40)),F40*J40,"") | O40: =IF(AND(ISNUMBER(G40),ISNUMBER(K40)),G40*K40,"") | P40: =IF(AND(ISNUMBER(L40),ISNUMBER(M40),ISNUMBER(N40),ISNUMBER(O40)),SUM(L40:O40),"")
B41: =IF(EXACT('Page Titre'!LANGUE_FR_ENG,"Fr"),MatchTrad!A61,MatchTrad!B61) -> Acceptations bancaires estampillées | C41: =C40+10 -> 1320 | I41: 0 | J41: 0.5 | K41: 1 | M41: =IF(AND(ISNUMBER(E41),ISNUMBER(I41)),E41*I41,"") | N41: =IF(AND(ISNUMBER(F41),ISNUMBER(J41)),F41*J41,"") | O41: =IF(AND(ISNUMBER(G41),ISNUMBER(K41)),G41*K41,"") | P41: =IF(AND(ISNUMBER(M41),ISNUMBER(N41),ISNUMBER(O41)),SUM(M41:O41),"")
B42: =IF(EXACT('Page Titre'!LANGUE_FR_ENG,"Fr"),MatchTrad!A62,MatchTrad!B62) -> Emprunts garantis et passifs (y compris les dépôts à terme garantis), provenant de :
...

Sheet Instructions
A1: =IF(EXACT('Page Titre'!LANGUE_FR_ENG,"Fr"),MatchTrad!A305,MatchTrad!B305) -> INSTRUCTIONS GÉNÉRALES Ces instructions portent sur le ratio structurel de liquidité à long terme (NFSR) tel qu'il est défini au chapitre 6 de la Ligne directrice sur les normes relatives à la suffisance des liquidités (LDSL). Ce chapitre, pour fin de rappel, correspond au document « Bâle III : Ratio structurel de liquidité à long terme ». L'ensemble des spécificités et des critères figurant dans les chapitres 2 et 6 de la LDSL s'appliquent. Les instructions indiquent le paragraphe de la LDSL auquel les données demandées font référence. Si les instructions contredisent la LDSL, les dispositions de la LDSL prédominent. Lorsque les instructions introduisent des spécificités supplémentaires sur les données demandées, celles-ci doivent toutefois être suivies. Il faut remplir le formulaire sur une base consolidée en se conformant au champ d'application précisé dans la LDSL. Le NSFR vise à assurer que les institutions financières maintiennent un profil de financement stable au regard de la composition de leurs actifs et de leurs activités hors bilan. Une structure de financement viable est censée réduire la probabilité que des difficultés qui perturberaient les sources de financement régulières d’une institution érodent sa position de liquidité au point d’accroître le risque d’une défaillance et, potentiellement, d'engendrer des tensions susceptibles de s’étendre à tout le système. Ce ratio établit l'exigence minimale en matière de financement stable en fonction des caractéristiques de liquidité des éléments au bilan et hors bilan d'une institution sur une période d'un an.
A2: =IF(EXACT('Page Titre'!LANGUE_FR_ENG,"Fr"),MatchTrad!A306,MatchTrad!B306) -> Le NSFR correspond au montant du financement stable disponible rapporté au montant du financement stable exigé. Le « financement stable disponible » désigne la part des fonds propres et des passifs censée être fiable à l’horizon temporel pris en compte aux fins du NSFR, à savoir jusqu’à un an. Le montant du « financement stable exigé » d’une institution est fonction des caractéristiques de liquidité ainsi que de l'échéance résiduelle des divers actifs qu’elle détient et de celles de ses positions hors bilan. Les institutions devraient déclarer leur NSFR selon le même champ d'application que pour le ratio de liquidité à court terme (LCR). Toutes les mentions des définitions du LCR dans le NSFR correspondent aux définitions présentées au chapitre 2 de la LDSL. Les autorités de contrôle qui ont décidé de mettre en œuvre dans leurs règles internes sur le LCR une définition plus stricte que celle énoncée dans la norme LCR du Comité de Bâle ont toute latitude pour décider s’il convient d’appliquer cette définition plus stricte aux fins de la mise en œuvre des exigences de NSFR dans leur territoire. Dans le NSFR, il est demandé aux institutions d'assigner aux passifs et aux fonds propres figurant à leur bilan les catégories de financement stable disponible (ASF) exposées ci-après. Les actifs inscrits au bilan devraient être affectés aux catégories de financement stable requis (RSF) en fonction de ce qui suit : i) leur échéance résiduelle; ii) s'ils sont grevés ou non; iii) s'ils sont grevés, la période de grèvement.
A3: =IF(EXACT('Page Titre'!LANGUE_FR_ENG,"Fr"),MatchTrad!A307,MatchTrad!B307) -> TRAITEMENT DES OPÉRATIONS DE FINANCEMENT AVEC CESSION TEMPORAIRE DE TITRES Si une institution utilise le bilan et les traitements comptables, elle exclura généralement de ses actifs les titres qu’elle a empruntés dans le cadre d’opérations de financement avec cession temporaire de titres (comme les mises en pension et les swaps de sûretés) et dont elle n’a pas la propriété effective. En revanche, elle devrait inclure les titres prêtés dans le cadre de telles opérations dont elle conserve la propriété effective. Elle devrait aussi exclure les titres reçus dans le cadre de swaps de sûretés si ces titres n’apparaissent pas à son bilan. Lorsqu’elle a cédé des titres dans le cadre de mises en pension ou d’autres cessions temporaires de titres, mais qu’elle en a conservé la propriété effective et que ces actifs restent inscrits à son bilan, elle devrait leur assigner la catégorie RSF appropriée. Les cessions temporaires de titres avec une seule contrepartie peuvent être mesurées nettes pour les besoins du NSFR, sous réserve que les conditions de compensation énoncées dans l'Annexe 1-II de la Ligne directrice sur les normes relatives à la suffisance du capital ("LDCID") de l'Autorité soient remplies. Les montants à recevoir et à payer dans le cadre de ces opérations devraient généralement être déclarés bruts, ce qui signifie que leur montant brut devrait se retrouver sous le RSF et l'ASF, respectivement. La seule exception, selon le paragraphe 33 de la norme NSFR, est que les « cessions temporaires de titres avec une seule contrepartie peuvent être mesurées nettes pour les besoins du NSFR, sous réserve que les conditions de compensation énoncées dans l'Annexe 1-II de la LDCID et dans les exigences de publicité soient remplies ».
A4: =IF(EXACT('Page Titre'!LANGUE_FR_ENG,"Fr"),MatchTrad!A308,MatchTrad!B308) -> TRAITEMENT DES GRÈVEMENTS Conformément au principe voulant qu'elles ne puissent tirer un avantage de liquidité des actifs qu'elles ont grevés, les institutions sont tenues d'indiquer si des actifs sont grevés et, le cas échéant, durant quelle période. Pour chaque catégorie d'actifs, elles devraient présenter sur des lignes distinctes les soldes des actifs grevés et non grevés dans la colonne appropriée, selon leur échéance résiduelle. Lorsque des actifs sont grevés pour des activités de liquidité exceptionnelles des banques centrales et que les autorités de contrôle nationales ont convenu avec les banques centrales d'un coefficient RSF réduit (lequel ne doit pas être inférieur à celui appliqué à l'actif équivalent qui n'est pas grevé), ces valeurs devraient être présentées séparément comme il est indiqué ci-après.
A5: =IF(EXACT('Page Titre'!LANGUE_FR_ENG,"Fr"),MatchTrad!A309,MatchTrad!B309) -> TRAITEMENT DES MONTANTS À PAYER ET À RECEVOIR SUR LES DÉRIVÉS Une institution aura habituellement au bilan des dérivés au passif (c'est-à-dire des montants à payer) et des dérivés à l'actif (c'est-à-dire des montants à recevoir). Les dérivés au passif sont calculés d’abord sur la base du coût de remplacement des contrats dérivés (obtenu par une évaluation au prix du marché) dont la valeur est négative. Lorsqu’il existe un contrat de compensation bilatérale admissible qui remplit les conditions énoncées dans l’Annexe 1-II de la LDCID, le coût de remplacement des expositions sur dérivés couvertes par le contrat sera le coût de remplacement net. Dans le calcul des dérivés au passif aux fins du NSFR, les sûretés constituant la marge de variation de contrats dérivés, indépendamment du type d’actif, doivent être déduites du montant négatif du coût de remplacement. Les dérivés à l’actif sont calculés d’abord sur la base du coût de remplacement des contrats dérivés (obtenu par une évaluation au prix du marché) lorsque le contrat a une valeur positive. S'il existe un contrat de compensation bilatérale admissible qui répond aux conditions énoncéesdans l’Annexe 1-II de la LDCID, le coût de remplacement des expositions sur dérivés couvertes par le contrat sera le coût de remplacement net. Pour le calcul des dérivés à l’actif aux fins du NSFR, les sûretés reçues dans le cadre de contrats dérivés ne peuvent compenser le montant du coût de remplacement positif, que la compensation soit ou non autorisée par le référentiel comptable ou le dispositif fondé sur les risques en vigueur dans l’institution, sauf si elles sont reçues sous forme de marge de variation en espèces et qu'elles remplissent les conditions énoncées dans l’Annexe 1-II de la LDCID ou sont précisées dans toute foire aux questions connexe. Les autres passifs figurant au bilan associés a) à une marge de variation reçue qui ne remplit pas les critères ci-dessus ou b) à une marge initiale reçue ne peuvent compenser les dérivés à l’actif et devraient se voir appliquer un coefficient ASF de 0 %. Certaines opérations des banques centrales peuvent impliquer le recours à des opérations sur instruments dérivés comme des swaps de devises. Un degré d'appréciation limité accordé aux autorités de contrôle nationales permet aux opérations sur instruments dérivés avec les banques centrales découlant de la politique monétaire à court terme et des activités de liquidité de ces dernières d'être exclues du calcul du NSFR de l’institution déclarante et de compenser les gains et pertes en capital non réalisés liés à ces opérations sur dérivés de l'ASF. Ces opérations comprennent les instruments dérivés sur devises, comme les swaps de devises, et devraient avoir une échéance de moins de six mois à l'origine. Par conséquent, le NSFR de l’institution ne changerait pas en raison d’une transaction sur instruments dérivés à court terme avec la banque centrale aux fins de la politique monétaire et des opérations de liquidité à court terme.
A6: =IF(EXACT('Page Titre'!LANGUE_FR_ENG,"Fr"),MatchTrad!A310,MatchTrad!B310) -> EXIGENCES RELATIVES AU LEVIER FINANCIER
A7: =IF(EXACT('Page Titre'!LANGUE_FR_ENG,"Fr"),MatchTrad!A311,MatchTrad!B311) -> Partie 1 - Financement stable disponible (ASF)
A8: =IF(EXACT('Page Titre'!LANGUE_FR_ENG,"Fr"),MatchTrad!A312,MatchTrad!B312) -> 1.1 Financement stable disponible (ASF)
A9: =IF(EXACT('Page Titre'!LANGUE_FR_ENG,"Fr"),MatchTrad!A313,MatchTrad!B313) -> Pour calculer le montant du financement stable disponible (Available stable funding ou ASF), on associe, dans un premier temps, la valeur comptable des fonds propres et passifs d’une institution à l’une des catégories indiquées ci-après, qui sont également reproduites au paragraphe 26 du chapitre 6 de la LDSL. La valeur comptable représente le montant auquel un instrument de dette ou de fonds propres est enregistré avant l’application d’éventuels ajustements réglementaires (déductions et filtres) et des coefficients ASF. Des modifications ont été apportées aux définitions figurant dans les normes NSFR de Bâle III pour tenir compte de la collecte de données par tranches d'échéance. • Les institutions devraient présenter l'ensemble des fonds propres et des passifs dans les colonnes appropriées d'après l'échéance. • Pour déterminer l’échéance d’un instrument de fonds propres ou de dette, il convient de prendre pour hypothèse que les investisseurs exercent l’option d’achat à la première date possible. Pour les financements assortis d’options exerçables à la discrétion de l’institution financière, elle devrait présumer que ces options seront exercées à la première date possible à moins qu’elle puisse démontrer de façon convaincante à l’Autorité qu’elle n’exercerait l’option en aucune circonstance. Également, lorsque le marché anticipe en particulier que certains passifs seront remboursés avant la date d’échéance légale, ce comportement doit être pris en compte aux fins du NSFR et ces passifs doivent être inclus dans la catégorie de l’ASF correspondante. Concernant les passifs à long terme, seuls les flux de trésorerie assortis d’horizons de 6 mois et d’un an ou plus devraient être considérés comme ayant, respectivement, un temps à l’échéance résiduel effectif égal ou supérieur à 6 mois et égal ou supérieur à un an. Conformément au traitement prévu pour le LCR, mais selon un horizon différent, les dépôts venant à échéance dans moins d'un an ou qui peuvent être retirés prématurément sans pénalité significative, qui sont classés comme des dépôts à terme de la clientèle de détail dans le LCR, devraient, aux fins du NSFR, être classés selon leurs caractéristiques (c'est-à-dire assurés, détenus dans un compte transactionnel, etc.) comme stables ou moins stables. Les dépôts à terme de la clientèle de détail dont l’échéance dépasse un an et qui ne peuvent être retirés prématurément sans pénalité significative sont assujettis à un coefficient ASF de 100 % . • Dans le cas des dépôts de la clientèle de détail et de petites et moyennes entreprises (PME), la même méthode de détermination de l'échéance devrait être suivie aux fins du NSFR qu'aux fins du LCR. • Les dépôts à terme fixe devraient être répartis par tranche d'échéance; les dépôts à vue (sans échéance) devraient être déclarés dans la colonne < 6 mois.
A10: =IF(EXACT('Page Titre'!LANGUE_FR_ENG,"Fr"),MatchTrad!A314,MatchTrad!B314) -> ADP | B10: =IF(EXACT('Page Titre'!LANGUE_FR_ENG,"Fr"),MatchTrad!A315,MatchTrad!B315) -> Description | C10: =IF(EXACT('Page Titre'!LANGUE_FR_ENG,"Fr"),MatchTrad!A316,MatchTrad!B316) -> Instructions | D10: =IF(EXACT('Page Titre'!LANGUE_FR_ENG,"Fr"),MatchTrad!A317,MatchTrad!B317) -> Renvoi à la LDSL (chapitre 6, sauf indication contraire)
A11: =NSFR!C10 -> 1010 | B11: =IF(EXACT('Page Titre'!LANGUE_FR_ENG,"Fr"),MatchTrad!A318,MatchTrad!B318) -> Fonds propres de catégorie 1 et de catégorie 2 (Bâle III), avant l'application de déductions de fonds propres, à l'exception du pourcentage d'instruments de catégorie 2 à échéance résiduelle de moins d'un an | C11: =IF(EXACT('Page Titre'!LANGUE_FR_ENG,"Fr"),MatchTrad!A319,MatchTrad!B319) -> Le montant total de fonds propres réglementaires, avant l’application de déductions, telles qu'elles sont définies au chapitre 2 de la LDCID, exception faite des instruments de fonds propres de catégorie 2 ayant un temps à échéance résiduel inférieur à un an. Les normes régissant les fonds propres de catégorie 1 et de catégorie 2 sont exposées au chapitre 2 de la LDCID. | D11: =IF(EXACT('Page Titre'!LANGUE_FR_ENG,"Fr"),MatchTrad!A320,MatchTrad!B320) -> 21 a)
A12: =NSFR!C11 -> 1020 | B12: =IF(EXACT('Page Titre'!LANGUE_FR_ENG,"Fr"),MatchTrad!A321,MatchTrad!B321) -> Instruments de fonds propres non pris en compte ci-dessus, à échéance résiduelle réelle d'au moins un an | C12: =IF(EXACT('Page Titre'!LANGUE_FR_ENG,"Fr"),MatchTrad!A322,MatchTrad!B322) -> Le montant total de tous les instruments de fonds propres non couverts à la ligne 1010 ci-dessus qui ont un temps à échéance résiduel effectif égal ou supérieur à un an, exception faite de tout instrument assorti d’une option explicite ou implicite qui, si elle est exercée, ramènerait à moins d'un an l’échéance prévue. | D12: =IF(EXACT('Page Titre'!LANGUE_FR_ENG,"Fr"),MatchTrad!A323,MatchTrad!B323) -> 21 b)
A13: =NSFR!C12 -> 1030 | B13: =IF(EXACT('Page Titre'!LANGUE_FR_ENG,"Fr"),MatchTrad!A324,MatchTrad!B324) -> Dépôts à vue et/ou à terme « stables » (définis dans le LCR) des particuliers et des petites entreprises | C13: =IF(EXACT('Page Titre'!LANGUE_FR_ENG,"Fr"),MatchTrad!A325,MatchTrad!B325) -> Les dépôts à vue (sans échéance) et/ou à terme « stables » (tels qu’ils sont définis aux paragraphes 75 à 78 de la norme LCR) placés par la clientèle de détail (particuliers et petites entreprises). Les dépôts à terme, peu importe leur temps à échéance résiduel, qui peuvent être retirés prématurément sans pénalité significativement supérieure à la perte d'intérêt devraient être déclarés dans la colonne < 6 mois. Conformément au traitement prévu pour le LCR mais selon un horizon différent, les dépôts venant à échéance dans moins d'un an ou qui peuvent être retirés prématurément sans pénalité significative, qui sont classés comme des dépôts à terme de la clientèle de détail dans la norme LCR, devraient, aux fins du NSFR, être classés selon leurs caractéristiques (assurés, détenus dans un compte transactionnel, etc.) comme stables ou moins stables. Les dépôts à terme de la clientèle de détail dont l’échéance dépasse un an et qui ne peuvent être retirés prématurément sans pénalité significative sont assujettis à un coefficient ASF de 100 % . | D13: =IF(EXACT('Page Titre'!LANGUE_FR_ENG,"Fr"),MatchTrad!A326,MatchTrad!B326) -> 21 c), 22
A14: =IF(EXACT('Page Titre'!LANGUE_FR_ENG,"Fr"),MatchTrad!A327,MatchTrad!B327) -> 1040 to 1130 | B14: =IF(EXACT('Page Titre'!LANGUE_FR_ENG,"Fr"),MatchTrad!A328,MatchTrad!B328) -> Dépôts à vue et/ou à terme « moins stables » (définis dans le LCR) des particuliers et des petites entreprises, dont : | C14: =IF(EXACT('Page Titre'!LANGUE_FR_ENG,"Fr"),MatchTrad!A329,MatchTrad!B329) -> Les dépôts « moins stables » (tels qu’ils sont définis aux paragraphes 79 à 81 de la norme LCR) à vue (sans échéance) et/ou à terme, placés par la clientèle de détail (particuliers et petites entreprises). Les dépôts à terme, peu importe leur temps à échéance résiduel, qui peuvent être retirés prématurément sans pénalité significativement supérieure à la perte d'intérêt devraient être déclarés dans la colonne < 6 mois. Conformément au traitement prévu pour le LCR mais selon un horizon différent, les dépôts venant à échéance dans moins d'un an ou qui peuvent être retirés prématurément sans pénalité significative, qui sont classés comme des dépôts à terme de la clientèle de détail dans le LCR, devraient, aux fins du NSFR, être classés selon leurs caractéristiques (assurés, détenus dans un compte transactionnel, etc.) comme stables ou moins stables. Les dépôts à terme de la clientèle de détail dont l’échéance dépasse un an et qui ne peuvent être retirés prématurément sans pénalité significative sont assujettis à un coefficient ASF de 100 % . | D14: =IF(EXACT('Page Titre'!LANGUE_FR_ENG,"Fr"),MatchTrad!A330,MatchTrad!B330) -> 21 c), 23, 22
A15: =NSFR!C14 -> 1050 | B15: =IF(EXACT('Page Titre'!LANGUE_FR_ENG,"Fr"),MatchTrad!A331,MatchTrad!B331) -> Assurés – sans relation durable et compte qui n’est pas un compte transactionnel | C15: =IF(EXACT('Page Titre'!LANGUE_FR_ENG,"Fr"),MatchTrad!A332,MatchTrad!B332) -> Les passifs dans cette catégorie sont les dépôts « moins stables » (tels qu’ils sont définis au paragraphe 74 du chapitre 2 de la LDSL) à vue (sans échéance) et/ou à terme, assortis d’un temps à échéance résiduel inférieur à un an, placés par la clientèle de détail (particuliers et petites entreprises). Le coefficient ASF est de 90 % dans le cas des dépôts assurés qui satisfont à l'une des conditions suivantes : i. le déposant n'a pas de relation durable avec l'institution; ii. les dépôts ne sont pas dans un compte transactionnel. | D15: 23
A16: =NSFR!C15 -> 1060 | B16: =IF(EXACT('Page Titre'!LANGUE_FR_ENG,"Fr"),MatchTrad!A333,MatchTrad!B333) -> Assurés – dépôts provenant de fonds et de fiducies contrôlés par le client de détail | C16: =IF(EXACT('Page Titre'!LANGUE_FR_ENG,"Fr"),MatchTrad!A334,MatchTrad!B334) -> Les passifs dans cette catégorie sont les dépôts « moins stables » (tels qu’ils sont définis au paragraphe 74 du chapitre 2 de la LDSL) à vue (sans échéance) et/ou à terme, assortis d’un temps à échéance résiduel inférieur à un an, placés par la clientèle de détail (particuliers et petites entreprises). Le coefficient ASF est de 90 % dans le cas des dépôts assurés provenant de fonds et de fiducies dont le solde est contrôlé uniquement par le client et qui satisfont à l'une des conditions suivantes : i. le déposant a une relation durable avec l'institution; ii. les dépôts sont dans un compte transactionnel. | D16: 23
A17: =NSFR!C16 -> 1070 | B17: =IF(EXACT('Page Titre'!LANGUE_FR_ENG,"Fr"),MatchTrad!A335,MatchTrad!B335) -> Dépôts provenant du pays d’attache mais libellés en devises | C17: =IF(EXACT('Page Titre'!LANGUE_FR_ENG,"Fr"),MatchTrad!A336,MatchTrad!B336) -> Les passifs dans cette catégorie sont les dépôts « moins stables » (tels qu’ils sont définis au chapitre 2) à vue (sans échéance) et/ou à terme, assortis d’un temps à échéance résiduel inférieur à un an, fournis par la clientèle de détail (particuliers et petites entreprises) provenant du Canada mais libellés en devises étrangères. Le coefficient ASF est de 90 % dans le cas des dépôts libellés en devises étrangères. Dans le cas des institutions transfrontalières, cela ne comprend pas les dépôts assujettis aux exigences de la juridiction du pays hôte (voir l’identifiant 1130) | D17: 23
A18: =NSFR!C17 -> 1080 | B18: =IF(EXACT('Page Titre'!LANGUE_FR_ENG,"Fr"),MatchTrad!A337,MatchTrad!B337) -> Dépôts non assurés | C18: =IF(EXACT('Page Titre'!LANGUE_FR_ENG,"Fr"),MatchTrad!A338,MatchTrad!B338) -> Dépôts sans échéance (à vue) « moins stables » et/ou dépôts à terme fournis par la clientèle de détail et de petites entreprises qui ne sont pas assurés soit parce que les montants excèdent la limite de couverture d'assurance-dépôts ou si les dépôts ne satisfont pas aux critères de couverture d'assurance-dépôts et ne sont pas saisis par les identifiants 1070, 1090, 1100, 1110 ou 1120. Les passifs dans cette catégorie sont les dépôts « moins stables » (tels qu’ils sont définis au chapitre 2) à vue (sans échéance) et/ou à terme, assortis d’un temps à échéance résiduel inférieur à un an, placés par la clientèle de détail et de PME. Le coefficient ASF est de 90 % dans le cas des dépôts non assurés. | D18: 23
A19: =NSFR!C18 -> 1090 | B19: =IF(EXACT('Page Titre'!LANGUE_FR_ENG,"Fr"),MatchTrad!A339,MatchTrad!B339) -> Dépôts sensibles aux taux d'intérêt directement gérés par le client – relation durable ou dépôt dans un compte transactionnel | C19: =IF(EXACT('Page Titre'!LANGUE_FR_ENG,"Fr"),MatchTrad!A340,MatchTrad!B340) -> Les dépôts sensibles aux taux (tels que définis au paragraphe 74 du chapitre 2 de la LDSL) fournis par la clientèle de détail et de petites entreprises lorsque le client gère directement les fonds et que le client entretient une relation durable (telle que définie dau paragraphe 74 du chapitre 2 de la LDSL) avec l’institution ou que le dépôt est dans un compte transactionnel. Les passifs dans cette catégorie sont les dépôts « moins stables » (tels qu’ils sont définis au chapitre 2) à vue (sans échéance) et/ou à terme, assortis d’un temps à échéance résiduel inférieur à un an, placés par la clientèle de détail (particuliers et petites entreprises). Le coefficient ASF est de 90 % dans le cas des dépôts sensibles aux taux d'intérêt dont le client gère directement les fonds et qui satisfont à l'une des conditions suivantes : i. le client a une relation durable avec l'institution; ii. le dépôt est dans un compte transactionnel. | D19: 23
A20: =NSFR!C19 -> 1100 | B20: =IF(EXACT('Page Titre'!LANGUE_FR_ENG,"Fr"),MatchTrad!A341,MatchTrad!B341) -> Dépôts sensibles aux taux d'intérêt directement gérés par le client – sans relation durable et dépôt dans un compte autre que transactionnel | C20: =IF(EXACT('Page Titre'!LANGUE_FR_ENG,"Fr"),MatchTrad!A342,MatchTrad!B342) -> Les dépôts sensibles aux taux (tels que définis au paragraphe 74 du chapitre 2 de la LDSL) fournis par la clientèle de détail et de petites entreprises lorsque le client gère directement les fonds, mais que le client n’a pas de relation durable (telle que définie au paragraphe 74 du chapitre 2 de la LDSL) avec l’institution et que le dépôt n’est pas dans un compte transactionnel. Les passifs dans cette catégorie sont les dépôts « moins stables » (tels qu’ils sont définis au chapitre 2 de la LDSL) à vue (sans échéance) et/ou à terme, assortis d’un temps à échéance résiduel inférieur à un an, placés par la clientèle de détail (particuliers et petites entreprises). Le coefficient ASF est de 80 % dans le cas des dépôts sensibles aux taux d'intérêt dont le client gère directement les fonds et qui satisfont à l'une des conditions suivantes : i. le client n'a pas de relation durable avec l'institution; ii. le dépôt n'est pas dans un compte transactionnel. | D20: =IF(EXACT('Page Titre'!LANGUE_FR_ENG,"Fr"),MatchTrad!A343,MatchTrad!B343) -> 23 e)
A21: =NSFR!C20 -> 1110 | B21: =IF(EXACT('Page Titre'!LANGUE_FR_ENG,"Fr"),MatchTrad!A344,MatchTrad!B344) -> Dépôts à terme gérés par un tiers non affilié venant à échéance ou encaissables dans les 30 prochains jours | C21: =IF(EXACT('Page Titre'!LANGUE_FR_ENG,"Fr"),MatchTrad!A345,MatchTrad!B345) -> Dépôts à terme de la clientèle de détail (particuliers et petites entreprises) directement gérés par un tiers non affilié (au sens du paragraphe 74 du chapitre 2 de la LDSL) qui arrivent à échéance ou qui sont encaissables dans les 30 prochains jours. Les dépôts à terme gérés directement par un tiers non affilié qui n’arrivent pas à échéance ou qui ne sont pas encaissables au cours des 30 prochains jours doivent être affectés à la catégorie appropriée selon les caractéristiques sous-jacentes du dépôt. Les passifs dans cette catégorie sont les dépôts « moins stables » (tels qu’il sont définis au chapitre 2) à vue (sans échéance) et/ou à terme, assortis d’un temps à échéance résiduel inférieur à un an, placés par la clientèle de détail et de petites entreprises. Le coefficient ASF est de 70 % dans le cas des dépôts à terme gérés directement par un tiers non affilié qui arrivent à échéance ou qui sont encaissables dans les 30 prochains jours. | D21: =IF(EXACT('Page Titre'!LANGUE_FR_ENG,"Fr"),MatchTrad!A346,MatchTrad!B346) -> 23 f)
A22: =NSFR!C21 -> 1120 | B22: =IF(EXACT('Page Titre'!LANGUE_FR_ENG,"Fr"),MatchTrad!A347,MatchTrad!B347) -> Dépôts à vue gérés par un tiers non affilié | C22: =IF(EXACT('Page Titre'!LANGUE_FR_ENG,"Fr"),MatchTrad!A348,MatchTrad!B348) -> Les dépôts à vue fournis par la clientèle de détail (particuliers et petites entreprises) où un tiers non affilié (tel que défini au paragraphe 74 du chapitre 2 de la LDSL) gère directement les fonds. Cette catégorie doit également inclure, de manière temporaire, les billets négociables en bourse et les dépôts issus de partenariats classés comme étant moins stables. Les passifs dans cette catégorie sont les dépôts « moins stables » (tels qu’ils sont définis au chapitre 2) à vue (sans échéance) et/ou à terme, assortis d’un temps à échéance résiduel inférieur à un an, placés par la clientèle de détail (particuliers et petites entreprises). Le coefficient ASF est de 60 % dans le cas des dépôts à vue dont un tiers non affilié gère directement les fonds. | D22: =IF(EXACT('Page Titre'!LANGUE_FR_ENG,"Fr"),MatchTrad!A349,MatchTrad!B349) -> 23 g)
A23: =NSFR!C22 -> 1130 | B23: =IF(EXACT('Page Titre'!LANGUE_FR_ENG,"Fr"),MatchTrad!A350,MatchTrad!B350) -> Dépôts soumis aux exigences de l'administration d'accueil | C23: =IF(EXACT('Page Titre'!LANGUE_FR_ENG,"Fr"),MatchTrad!A351,MatchTrad!B351) -> Pour calculer le LCR consolidé, les institutions doivent généralement appliquer les paramètres de liquidité énoncés dans la LDSL à toutes les entités consolidées. Toutefois, pour les dépôts de détail et de petites entreprises, comme indiqué au paragraphe 169 du LCR, les institutions doivent suivre les paramètres pertinents adoptés dans la juridiction d'accueil où elles sont présentes. Les dépôts de détail et de petites entreprises assujettis au régime de la juridiction d'accueil sont déclarés dans le LCR selon le coefficient de pondération applicable dans la juridiction d'accueil. Ces dépôts moins stables assujettis aux exigences du système hôte doivent être déclarés sous l’identifiant 1130. Les montants prépondérés doivent être déclarés aux colonnes appropriées selon la durée des dépôts. Le coefficent ASF calculé pour chaque terme doit correspondre au coefficient ASF moyen pondéré applicable à chaque terme de dépôt. Par exemple, si une institution a des dépôts sans échéance de 10 $ qui sont assujettis à un ASF de 15 % dans la juridiction d'accueil et de 25 $ à un ASF de 40 %, 35 $ doivent être déclarés à la colonne "Sans-terme (colonne D)" et 11,5 $ à la colonne "Sans-terme (colonne L)". Un coefficient ASF de 100 % devrait être attribué aux dépôts dont l’échéance résiduelle est supérieure à un an, quel que soit le taux en vigueur dans la juridiction d’accueil. Les passifs dans cette catégorie sont les dépôts « moins stables » (tels qu’ils sont définis au chapitre 2) à vue (sans échéance) et/ou à terme, assortis d’un temps à échéance résiduel inférieur à un an, placés par la clientèle de détail (particuliers et petites entreprises). Les coefficients ASF alors appliqués sont soumis aux exigences du territoire d'accueil.
A24: 1140 | B24: =IF(EXACT('Page Titre'!LANGUE_FR_ENG,"Fr"),MatchTrad!A352,MatchTrad!B352) -> Financement non garanti provenant d’entreprises non financières | C24: =IF(EXACT('Page Titre'!LANGUE_FR_ENG,"Fr"),MatchTrad!A353,MatchTrad!B353) -> Les financements non garantis, les dépôts sans échéance et/ou les dépôts à terme provenant d'entreprises non financières (sauf la clientèle de petites entreprises). | D24: =IF(EXACT('Page Titre'!LANGUE_FR_ENG,"Fr"),MatchTrad!A354,MatchTrad!B354) -> 21 c), 24 a)
A25: =A24+10 -> 1150 | B25: =IF(EXACT('Page Titre'!LANGUE_FR_ENG,"Fr"),MatchTrad!A355,MatchTrad!B355) -> Dépôt opérationnel (défini dans le périmètre du LCR) | C25: =IF(EXACT('Page Titre'!LANGUE_FR_ENG,"Fr"),MatchTrad!A356,MatchTrad!B356) -> Les institutions devraient déclarer la portion des dépôts non garantis provenant d'entreprises non financières ayant des relations opérationnelles, telles qu'elles sont définies dans la norme LCR. | D25: =IF(EXACT('Page Titre'!LANGUE_FR_ENG,"Fr"),MatchTrad!A357,MatchTrad!B357) -> Chapitre 2, par. 93-104
A26: =A25+10 -> 1160 | B26: =IF(EXACT('Page Titre'!LANGUE_FR_ENG,"Fr"),MatchTrad!A358,MatchTrad!B358) -> Dépôt non opérationnel (défini dans le périmètre du LCR) | C26: =IF(EXACT('Page Titre'!LANGUE_FR_ENG,"Fr"),MatchTrad!A359,MatchTrad!B359) -> Les institutions devraient déclarer la portion des dépôts non garantis provenant d'entreprises non financières sans relations opérationnelles, telles qu'elles sont définies dans la norme LCR. | D26: =IF(EXACT('Page Titre'!LANGUE_FR_ENG,"Fr"),MatchTrad!A360,MatchTrad!B360) -> Chapitre 2, par. 107-108
A27: =A26+10 -> 1170 | B27: =IF(EXACT('Page Titre'!LANGUE_FR_ENG,"Fr"),MatchTrad!A361,MatchTrad!B361) -> Fonds non garantis autres que des dépôts | C27: =IF(EXACT('Page Titre'!LANGUE_FR_ENG,"Fr"),MatchTrad!A362,MatchTrad!B362) -> Les institutions devraient déclarer les financements non garantis autres que des dépôts fournis par des entreprises non financières. | D27: =IF(EXACT('Page Titre'!LANGUE_FR_ENG,"Fr"),MatchTrad!A363,MatchTrad!B363) -> 24 c and d)
A28: =A27+10 -> 1180 | B28: =IF(EXACT('Page Titre'!LANGUE_FR_ENG,"Fr"),MatchTrad!A364,MatchTrad!B364) -> Financement non garanti provenant de banques centrales | C28: =IF(EXACT('Page Titre'!LANGUE_FR_ENG,"Fr"),MatchTrad!A365,MatchTrad!B365) -> Les institutions devraient déclarer les financements non garantis, les dépôts sans échéance et/ou les dépôts à terme provenant de banques centrales. | D28: =IF(EXACT('Page Titre'!LANGUE_FR_ENG,"Fr"),MatchTrad!A366,MatchTrad!B366) -> 21 c), 24 b), 24 d), 25 a)
A29: =A28+10 -> 1190 | B29: =IF(EXACT('Page Titre'!LANGUE_FR_ENG,"Fr"),MatchTrad!A367,MatchTrad!B367) -> Dépôt opérationnel (défini dans le périmètre du LCR) | C29: =IF(EXACT('Page Titre'!LANGUE_FR_ENG,"Fr"),MatchTrad!A368,MatchTrad!B368) -> Les institutions devraient déclarer la portion des dépôts non garantis provenant de banques centrales ayant des relations opérationnelles, telles qu'elles sont définies dans la norme LCR. | D29: =IF(EXACT('Page Titre'!LANGUE_FR_ENG,"Fr"),MatchTrad!A369,MatchTrad!B369) -> Chapitre 2, par. 93-104
A30: =A29+10 -> 1200 | B30: =IF(EXACT('Page Titre'!LANGUE_FR_ENG,"Fr"),MatchTrad!A370,MatchTrad!B370) -> Dépôt non opérationnel (défini dans le périmètre du LCR) | C30: =IF(EXACT('Page Titre'!LANGUE_FR_ENG,"Fr"),MatchTrad!A371,MatchTrad!B371) -> Les institutions devraient déclarer la portion des dépôts non garantis fournis par des banques centrales sans relations opérationnelles, telles qu'elles sont définies dans la norme LCR. | D30: =IF(EXACT('Page Titre'!LANGUE_FR_ENG,"Fr"),MatchTrad!A372,MatchTrad!B372) -> Chapitre 2, par. 107-108
A31: =A30+10 -> 1210 | B31: =IF(EXACT('Page Titre'!LANGUE_FR_ENG,"Fr"),MatchTrad!A373,MatchTrad!B373) -> Fonds non garantis autres que des dépôts | C31: =IF(EXACT('Page Titre'!LANGUE_FR_ENG,"Fr"),MatchTrad!A374,MatchTrad!B374) -> Les institutions devraient déclarer les financements non garantis autres que des dépôts fournis par des banques centrales. | D31: =IF(EXACT('Page Titre'!LANGUE_FR_ENG,"Fr"),MatchTrad!A375,MatchTrad!B375) -> 24 c and d)
A32: =A31+10 -> 1220 | B32: =IF(EXACT('Page Titre'!LANGUE_FR_ENG,"Fr"),MatchTrad!A376,MatchTrad!B376) -> Financement non garanti provenant d'États souverains/OP/BMD/BND | C32: =IF(EXACT('Page Titre'!LANGUE_FR_ENG,"Fr"),MatchTrad!A377,MatchTrad!B377) -> Les institutions devraient déclarer les financements non garantis, les dépôts sans échéance et/ou les dépôts à terme provenant d'entités souveraines, d'organismes publics, de banques multilatérales de développement et des banques nationales de développement (BND). Elles devraient inclure sur cette ligne les fonds non garantis reçus de la Banque des règlements internationaux, du Fonds monétaire international et de la Commission européenne. | D32: =IF(EXACT('Page Titre'!LANGUE_FR_ENG,"Fr"),MatchTrad!A378,MatchTrad!B378) -> 21 c), 24 c )
A33: =A32+10 -> 1230 | B33: =IF(EXACT('Page Titre'!LANGUE_FR_ENG,"Fr"),MatchTrad!A379,MatchTrad!B379) -> Dépôt opérationnel (défini dans le périmètre du LCR) | C33: =IF(EXACT('Page Titre'!LANGUE_FR_ENG,"Fr"),MatchTrad!A380,MatchTrad!B380) -> Les institutions devraient déclarer la portion des dépôts non garantis provenant d'entités souveraines, d'organismes publics et de banques multilatérales de développements ayant des relations opérationnelles, telles qu'elles sont définies dans la norme LCR. | D33: =IF(EXACT('Page Titre'!LANGUE_FR_ENG,"Fr"),MatchTrad!A381,MatchTrad!B381) -> Chapitre 2, par. 93-104
A34: =A33+10 -> 1240 | B34: =IF(EXACT('Page Titre'!LANGUE_FR_ENG,"Fr"),MatchTrad!A382,MatchTrad!B382) -> Dépôt non opérationnel (défini dans le périmètre du LCR) | C34: =IF(EXACT('Page Titre'!LANGUE_FR_ENG,"Fr"),MatchTrad!A383,MatchTrad!B383) -> Les institutions devraient déclarer la portion des dépôts non garantis fournis par des entités souveraines, des organismes publics et des banques multilatérales de développement sans relations opérationnelles, telles qu'elles sont définies dans la norme LCR. | D34: =IF(EXACT('Page Titre'!LANGUE_FR_ENG,"Fr"),MatchTrad!A384,MatchTrad!B384) -> Chapitre 2, par. 107-108
A35: =A34+10 -> 1250 | B35: =IF(EXACT('Page Titre'!LANGUE_FR_ENG,"Fr"),MatchTrad!A385,MatchTrad!B385) -> Fonds non garantis autres que des dépôts | C35: =IF(EXACT('Page Titre'!LANGUE_FR_ENG,"Fr"),MatchTrad!A386,MatchTrad!B386) -> Les institutions devraient déclarer les financements non garantis autres que les dépôts fournis par des entités souveraines, des organismes publics et des banques multilatérales de développement. | D35: =IF(EXACT('Page Titre'!LANGUE_FR_ENG,"Fr"),MatchTrad!A387,MatchTrad!B387) -> 24 c and d)
A36: =A35+10 -> 1260 | B36: =IF(EXACT('Page Titre'!LANGUE_FR_ENG,"Fr"),MatchTrad!A388,MatchTrad!B388) -> Financement non garanti provenant d'autres entités juridiques (y compris des sociétés financières et des institutions financières) | C36: =IF(EXACT('Page Titre'!LANGUE_FR_ENG,"Fr"),MatchTrad!A389,MatchTrad!B389) -> Le montant total des emprunts et autres passifs non garantis (dont les dépôts à terme) ne figurant pas aux identifiants 1140 à 1250, qui constituent le financement provenant d'autres entités juridiques (y compris des sociétés financières et des institutions financières (sauf les institutions membres du même réseau coopératif). Conformément aux paragraphes 131 d) et e) de la norme LCR ainsi qu'au paragraphe 16 de la norme NSFR, les institutions, les entreprises d'investissement, les sociétés d'assurance, les fiduciaires (dans ce contexte, un « fiduciaire » est une entité juridique autorisée à gérer des actifs pour le compte d’un tiers, y compris les structures de gestion d’actifs telles que les caisses de retraite et les autres véhicules d’investissement collectif) et les bénéficiaires (dans ce contexte, un « bénéficiaire » est une entité juridique qui bénéficie de prestations, ou qui peut être habilitée à en bénéficier, au titre d’un testament, d’une police d’assurance, d’un régime de retraite, d’un contrat de rente, d’une fiducie, ou d’un autre contrat) sont considérés comme des institutions financières pour l'application de la norme NSFR. | D36: =IF(EXACT('Page Titre'!LANGUE_FR_ENG,"Fr"),MatchTrad!A390,MatchTrad!B390) -> 21 c), 24 b), 24 d), 25 a)
A37: =A36+10 -> 1270 | B37: =IF(EXACT('Page Titre'!LANGUE_FR_ENG,"Fr"),MatchTrad!A391,MatchTrad!B391) -> Dépôt opérationnel (défini dans le périmètre du LCR) | C37: =IF(EXACT('Page Titre'!LANGUE_FR_ENG,"Fr"),MatchTrad!A392,MatchTrad!B392) -> Les institutions devraient déclarer le montant total des dépôts non garantis provenant d'autres entités juridiques ayant des relations opérationnelles, telles qu'elles sont définies dans la norme LCR. | D37: =IF(EXACT('Page Titre'!LANGUE_FR_ENG,"Fr"),MatchTrad!A393,MatchTrad!B393) -> Chapitre 2, par. 93-104
A38: =A37+10 -> 1280 | B38: =IF(EXACT('Page Titre'!LANGUE_FR_ENG,"Fr"),MatchTrad!A394,MatchTrad!B394) -> Dépôt non opérationnel (défini dans le périmètre du LCR) | C38: =IF(EXACT('Page Titre'!LANGUE_FR_ENG,"Fr"),MatchTrad!A395,MatchTrad!B395) -> Les institutions devraient déclarer le montant total des dépôts non garantis fournis par d'autres entités juridiques sans relations opérationnelles, telles qu'elles sont définies dans la norme LCR. | D38: =IF(EXACT('Page Titre'!LANGUE_FR_ENG,"Fr"),MatchTrad!A396,MatchTrad!B396) -> Chapitre 2, par. 107-108
A39: =A38+10 -> 1290 | B39: =IF(EXACT('Page Titre'!LANGUE_FR_ENG,"Fr"),MatchTrad!A397,MatchTrad!B397) -> Fonds non garantis autres que des dépôts | C39: =IF(EXACT('Page Titre'!LANGUE_FR_ENG,"Fr"),MatchTrad!A398,MatchTrad!B398) -> Les institutions devraient déclarer les financements non garantis autres que les dépôts fournis par d'autres entités juridiques (y compris des sociétés financières et des institutions financières). Les institutions devraient déclarer ici tous les financements non garantis autres que les dépôts pour lesquels une contrepartie ne peut être déterminée (et qui ne sont donc pas déclarés aux identifiants 1170, 1210 ou 1250), comme les émissions de titres de créance non garantis. | D39: =IF(EXACT('Page Titre'!LANGUE_FR_ENG,"Fr"),MatchTrad!A399,MatchTrad!B399) -> 24 c and d)
A40: =A39+10 -> 1300 | B40: =IF(EXACT('Page Titre'!LANGUE_FR_ENG,"Fr"),MatchTrad!A400,MatchTrad!B400) -> Dépôts provenant de membres d'une même coopératives à l'intérieur d'une fédération sousmise à la discrétion nationale énoncée au paragraphe 25 (a) | C40: =IF(EXACT('Page Titre'!LANGUE_FR_ENG,"Fr"),MatchTrad!A401,MatchTrad!B401) -> Cette ligne devrait uniquement servir à déclarer les dépôts entre les institutions d'un même réseau coopératif. Les dépôts qui sont des dépôts opérationnels selon les paragraphes 93 à 104 du chapitre 2 de la LDSL, ou les autres dépôts de membres de leur réseau coopératif devraient être déclarés à l'identifiant 1310. | D40: =IF(EXACT('Page Titre'!LANGUE_FR_ENG,"Fr"),MatchTrad!A402,MatchTrad!B402) -> 25 a), 21 c)
...

Sheet Sans objet 1

Sheet Sans objet 2

Sheet MatchTrad
A1: Français | B1: Anglais | C1: Emplacement utilisé | D1: Validation français | E1: Validation anglais
A2: Divulgation | B2: Reporting | C2: ='Page Titre'!A35 -> Divulgation | D2: =A2=C2 -> TRUE | E2: =B2=C2 -> FALSE
A3: Ratio structurel de liquidité à long terme (NSFR) | B3: Net Stable Funding Ratio (NSFR) | C3: ='Page Titre'!A39 -> Ratio structurel de liquidité à long terme (NSFR) | D3: =A3=C3 -> TRUE | E3: =B3=C3 -> FALSE
A4: Exigences NSFR | B4: NSFR Requirements | C4: =NSFR!A2 -> Exigences NSFR | D4: =A4=C4 -> TRUE | E4: =B4=C4 -> FALSE
A5: (Miliers de dollars canadiens) | B5: (In thousands of Canadian dollars) | C5: =NSFR!A3 -> (Miliers de dollars canadiens) | D5: =A5=C5 -> TRUE | E5: =B5=C5 -> FALSE
A6: Date de divulgation (aaaa-mm-jj) | B6: Reporting date (yyyy-mm-dd) | C6: =NSFR!B4 -> Date de divulgation (aaaa-mm-jj) | D6: =A6=C6 -> TRUE | E6: =B6=C6 -> FALSE
